BEGIN:VCALENDAR
VERSION:2.0
PRODID:-//dhtmlXScheduler//NONSGML v2.2//EN
X-WR-CALNAME:Wydarzenia
BEGIN:VEVENT
DTSTART:20220413T093000
DTEND:20220413T103000
UID:0
SUMMARY:Poranek Wielkanocny
END:VEVENT
END:VCALENDAR