BEGIN:VCALENDAR
VERSION:2.0
PRODID:-//dhtmlXScheduler//NONSGML v2.2//EN
X-WR-CALNAME:Wydarzenia
BEGIN:VEVENT
DTSTART:20240418T090000
DTEND:20240418T140000
UID:0
SUMMARY:DZIEŃ OTWARTY 2024
END:VEVENT
END:VCALENDAR