BEGIN:VCALENDAR
VERSION:2.0
PRODID:-//dhtmlXScheduler//NONSGML v2.2//EN
X-WR-CALNAME:Wydarzenia
BEGIN:VEVENT
DTSTART:20220330T100000
DTEND:20220330T140000
UID:1
SUMMARY:Dzień Otwarty
END:VEVENT
END:VCALENDAR