BEGIN:VCALENDAR
VERSION:2.0
PRODID:-//dhtmlXScheduler//NONSGML v2.2//EN
X-WR-CALNAME:Wydarzenia
BEGIN:VEVENT
DTSTART:20211203T100000
DTEND:20211203T120000
UID:1
SUMMARY:Mikołajki
END:VEVENT
END:VCALENDAR